BEGIN:VCALENDAR
VERSION:2.0
PRODID:-//West Social Tap &amp; Table - ECPv6.15.12.2//NONSGML v1.0//EN
CALSCALE:GREGORIAN
METHOD:PUBLISH
X-WR-CALNAME:West Social Tap &amp; Table
X-ORIGINAL-URL:https://westsocialtapandtable.com
X-WR-CALDESC:Events for West Social Tap &amp; Table
REFRESH-INTERVAL;VALUE=DURATION:PT1H
X-Robots-Tag:noindex
X-PUBLISHED-TTL:PT1H
BEGIN:VTIMEZONE
TZID:UTC
BEGIN:STANDARD
TZOFFSETFROM:+0000
TZOFFSETTO:+0000
TZNAME:UTC
DTSTART:20210101T000000
END:STANDARD
END:VTIMEZONE
BEGIN:VEVENT
DTSTART;TZID=UTC:20220823T180000
DTEND;TZID=UTC:20220823T213000
DTSTAMP:20260423T015143
CREATED:20220420T142007Z
LAST-MODIFIED:20220818T190205Z
UID:321-1661277600-1661290200@westsocialtapandtable.com
SUMMARY:West Social Block Party!
DESCRIPTION:RESCHEDULED DUE TO WEATHER FOR TUESDAY\, AUGUST 23rd (same time same place) \nWe are ready to CELEBRATE Dayton’s first Food Hall in the beautiful historical Wright Dunbar District. Plan a trip to West Social Tap & Table to grab a bite from our delicious variety of local restaurants\, drink a cold brew or perfect summer cocktail\, and head out to the patio for some live music and fun that will keep you dancing all night! We will also be benefitting local non-profit – Wright Dunbar Village Association with an extended beer garden and celebration among Wright Dunbar businesses. Can’t wait to see you there! \n6pm – Opening Band – Flash Top Secret \n8pm – Headliner band from toledo  – Distant Cousinz \nWhere to park?  \nEVENT MAP \n \nWHERE TO PARK? \nCheck out all the available public parking below:
URL:https://westsocialtapandtable.com/event/grand-opening-block-party/
LOCATION:West Social Tap & Table\, 1100 W. Third Street\, Dayton\, OH\, 45402\, United States
ATTACH;FMTTYPE=image/jpeg:https://westsocialtapandtable.com/wp-content/uploads/2022/04/Block-party-SMALLresheduled-copy.jpg
ORGANIZER;CN="Dillin Events":MAILTO:magic@dillincorp.com
END:VEVENT
END:VCALENDAR